{"text_format":"3","workbook":"xlsx","n_sheets":2,"sheets":["Sheet1","Sheet2"],"not_rendered":{"external_links":1,"defined_names":1},"read":"whole","date_system":"1900"}

{"sheet":"Sheet1","index":0,"n_rows":73,"n_cols":10,"rows_kept":73}
["准考证号","姓名","证件号码","报考科目","理论考试状态","理论成绩","实操考试状态","实操成绩","综合考试状态","综合成绩"]
["23S00003401004230253003635","张玉峰","340123198911201677","房地产策划师（三级）","缺考",0,"缺考",{"$f":"VLOOKUP(C2,[1]技能!$B:$D,3,FALSE)","v":0}]
["23S00003401004230253003636","戴瑞","340881199411136449","房地产策划师（三级）","正常考试",88,"正常考试",{"$f":"VLOOKUP(C3,[1]技能!$B:$D,3,FALSE)","v":87}]
["23S00003401004230253003637","金娟","340123199512294903","房地产策划师（三级）","正常考试",90,"正常考试",{"$f":"VLOOKUP(C4,[1]技能!$B:$D,3,FALSE)","v":86}]
["23S00003401004230253003638","张钰莹","340103199404093025","房地产策划师（三级）","正常考试",84,"正常考试",{"$f":"VLOOKUP(C5,[1]技能!$B:$D,3,FALSE)","v":82}]
["23S00003401004230253003639","仇智明","340121198405221015","房地产策划师（三级）","正常考试",82]
["23S00003401004230253003640","李冬新","340123197904104671","房地产策划师（三级）","正常考试",81]
["23S00003401004230253003641","孙攀","340122198605054238","房地产策划师（三级）","正常考试",78]
["23S00003401004230253003642","汤宗霞","341124197810087046","房地产策划师（三级）","正常考试",79]
["23S00003401004230253003643","王伟","342401198709228470","房地产策划师（三级）","正常考试",74,"正常考试",{"$f":"VLOOKUP(C10,[1]技能!$B:$D,3,FALSE)","v":78}]
["23S00003401004230253003644","吴海斌","340121197912074617","房地产策划师（三级）","缺考",0]
["23S00003401004230253003645","杨劲松","340122198903131211","房地产策划师（三级）","正常考试",87]
["23S00003401004230253003646","朱冬敏","342622198902236176","房地产策划师（三级）",null,null,"正常考试",{"$f":"VLOOKUP(C13,[1]技能!$B:$D,3,FALSE)","v":84}]
["23S00003401004230253003647","朱多莹","342422198603130362","房地产策划师（三级）","正常考试",83,"正常考试",{"$f":"VLOOKUP(C14,[1]技能!$B:$D,3,FALSE)","v":84}]
["23S00003401004230253003648","李婉瑜","340603199011300027","房地产策划师（三级）","缺考",0,"缺考",{"$f":"VLOOKUP(C15,[1]技能!$B:$D,3,FALSE)","v":0}]
["23S00003401004230253003649","张文超","34012319931117469X","房地产策划师（三级）","缺考",0,"缺考",{"$f":"VLOOKUP(C16,[1]技能!$B:$D,3,FALSE)","v":0}]
["23S00003401004230253003650","张文军","342601199008013034","房地产策划师（三级）","缺考",0,"缺考",{"$f":"VLOOKUP(C17,[1]技能!$B:$D,3,FALSE)","v":0}]
["23S00003401004230253003651","李容容","340111198504061560","房地产策划师（三级）","缺考",0,"缺考",{"$f":"VLOOKUP(C18,[1]技能!$B:$D,3,FALSE)","v":0}]
["23S00003401004230278003589","陈强","340121199609164336","会展设计师（三级）","正常考试",52,"正常考试",{"$f":"VLOOKUP(C19,[1]技能!$B:$D,3,FALSE)","v":66}]
["23S00003401004230278003590","汪金华","341021199312253018","会展设计师（三级）","正常考试",87,"正常考试",{"$f":"VLOOKUP(C20,[1]技能!$B:$D,3,FALSE)","v":87}]
["23S00003401004230278003591","徐超","342401198205063617","会展设计师（三级）","正常考试",83,"正常考试",{"$f":"VLOOKUP(C21,[1]技能!$B:$D,3,FALSE)","v":76}]
["23S00003401004230278003592","张晔","342622198002168542","会展设计师（三级）","缺考",0,"缺考",{"$f":"VLOOKUP(C22,[1]技能!$B:$D,3,FALSE)","v":0}]
["23S00003401004230278003593","吴晶","340802198505120026","会展设计师（三级）","缺考",0,"缺考",{"$f":"VLOOKUP(C23,[1]技能!$B:$D,3,FALSE)","v":0}]
["23S00003401004230278003594","邱士琅","410303198301163224","会展设计师（三级）","正常考试",94,"正常考试",{"$f":"VLOOKUP(C24,[1]技能!$B:$D,3,FALSE)","v":88}]
["23S00003401004230278003595","李梦瑶","340404199111110840","会展设计师（三级）","缺考",0,"缺考",{"$f":"VLOOKUP(C25,[1]技能!$B:$D,3,FALSE)","v":0}]
["23S00003401004230278003596","蒋乐","320324199302181605","会展设计师（三级）","正常考试",92,"正常考试",{"$f":"VLOOKUP(C26,[1]技能!$B:$D,3,FALSE)","v":85}]
["23S00003401004230278003597","宋志宏","340111198001081519","会展设计师（三级）","正常考试",89,"正常考试",{"$f":"VLOOKUP(C27,[1]技能!$B:$D,3,FALSE)","v":83}]
["23S00003401004230278003598","孙珊珊","340102198402272029","会展设计师（三级）","缺考",0,"缺考",{"$f":"VLOOKUP(C28,[1]技能!$B:$D,3,FALSE)","v":0}]
["23S00003401004230278003599","王晓强","342401199405106532","会展设计师（三级）","缺考",0,"缺考",{"$f":"VLOOKUP(C29,[1]技能!$B:$D,3,FALSE)","v":0}]
["23S00003401004230278003600","丁增梅","342425199508124048","会展设计师（三级）","正常考试",90,"正常考试",{"$f":"VLOOKUP(C30,[1]技能!$B:$D,3,FALSE)","v":69}]
["23S00003401004230278003601","翁杨洋","342427199107060015","会展设计师（三级）","缺考",0,"缺考",{"$f":"VLOOKUP(C31,[1]技能!$B:$D,3,FALSE)","v":0}]
["23S00003401004230278003602","瞿贤亮","340111199410196039","会展设计师（三级）","正常考试",95,"正常考试",{"$f":"VLOOKUP(C32,[1]技能!$B:$D,3,FALSE)","v":75}]
["23S00003401004230278003603","尚允战","341204198511161431","会展设计师（三级）","正常考试",35,"正常考试",{"$f":"VLOOKUP(C33,[1]技能!$B:$D,3,FALSE)","v":76}]
["23S00003401004230278003604","童正辉","34012119940625311X","会展设计师（三级）","正常考试",33,"正常考试",{"$f":"VLOOKUP(C34,[1]技能!$B:$D,3,FALSE)","v":65}]
["23S00003401004230278003605","丁赞","342923198306192210","会展设计师（三级）","缺考",0,"正常考试",{"$f":"VLOOKUP(C35,[1]技能!$B:$D,3,FALSE)","v":77}]
["23S00003401004230278003606","葛志伟","340121198709196111","会展设计师（三级）","正常考试",39,"正常考试",{"$f":"VLOOKUP(C36,[1]技能!$B:$D,3,FALSE)","v":68}]
["23S00003401004230278003607","董二波","340121199401103112","会展设计师（三级）","正常考试",90,"正常考试",{"$f":"VLOOKUP(C37,[1]技能!$B:$D,3,FALSE)","v":70}]
["23S00003401004230278003608","谢露露","340121199705204035","会展设计师（三级）","正常考试",88,"正常考试",{"$f":"VLOOKUP(C38,[1]技能!$B:$D,3,FALSE)","v":74}]
["23S00003401004230278003609","欧素云","445381199204090848","会展设计师（三级）","正常考试",88,"正常考试",{"$f":"VLOOKUP(C39,[1]技能!$B:$D,3,FALSE)","v":69}]
["23S00003401004230278003610","许君","342531198809140920","会展设计师（三级）","缺考",0,"缺考",{"$f":"VLOOKUP(C40,[1]技能!$B:$D,3,FALSE)","v":0}]
["23S00003401004230278003611","马言","340121199703133114","会展设计师（三级）","缺考",0,"正常考试",{"$f":"VLOOKUP(C41,[1]技能!$B:$D,3,FALSE)","v":82}]
["23S00003401004230278003612","代春晨","340121199203155210","会展设计师（三级）","正常考试",93,"正常考试",{"$f":"VLOOKUP(C42,[1]技能!$B:$D,3,FALSE)","v":68}]
["23S00003401004230278003613","袁田贵","342422197904097637","会展设计师（三级）","正常考试",84,"正常考试",{"$f":"VLOOKUP(C43,[1]技能!$B:$D,3,FALSE)","v":64}]
["23S00003401004230278003614","杨丽","342422198403177561","会展设计师（三级）","正常考试",90,"正常考试",{"$f":"VLOOKUP(C44,[1]技能!$B:$D,3,FALSE)","v":83}]
["23S00003401004230278003615","周国仓","342426197307240410","会展设计师（三级）","正常考试",49,"正常考试",{"$f":"VLOOKUP(C45,[1]技能!$B:$D,3,FALSE)","v":79}]
["23S00003401004230278003616","曾德安","362430199909093734","会展设计师（三级）","正常考试",91,"正常考试",{"$f":"VLOOKUP(C46,[1]技能!$B:$D,3,FALSE)","v":70}]
["23S00003401004230278003617","王坤","340121199210044316","会展设计师（三级）","缺考",0,"正常考试",{"$f":"VLOOKUP(C47,[1]技能!$B:$D,3,FALSE)","v":79}]
["23S00003401004230278003618","曾海燕","340121199006063720","会展设计师（三级）","正常考试",90,"正常考试",{"$f":"VLOOKUP(C48,[1]技能!$B:$D,3,FALSE)","v":77}]
["23S00003401004230278003619","万江滨","340824198610026611","会展设计师（三级）","正常考试",87,"正常考试",{"$f":"VLOOKUP(C49,[1]技能!$B:$D,3,FALSE)","v":71}]
["23S00003401004230278003620","鲍传保","342401197812104930","会展设计师（三级）","缺考",0,"缺考",{"$f":"VLOOKUP(C50,[1]技能!$B:$D,3,FALSE)","v":0}]
["23S00003401004230278003621","张后东","341225199603208977","会展设计师（三级）","缺考",0,"正常考试",{"$f":"VLOOKUP(C51,[1]技能!$B:$D,3,FALSE)","v":71}]
["23S00003401004230278003622","李扬","340405199505050410","会展设计师（三级）","正常考试",76,"正常考试",{"$f":"VLOOKUP(C52,[1]技能!$B:$D,3,FALSE)","v":63}]
["23S00003401004230278003623","项志文","340825199710171315","会展设计师（三级）","正常考试",86,"正常考试",{"$f":"VLOOKUP(C53,[1]技能!$B:$D,3,FALSE)","v":70}]
["23S00003401004230278003624","汪厚斌","340711198402080018","会展设计师（三级）","正常考试",94,"正常考试",{"$f":"VLOOKUP(C54,[1]技能!$B:$D,3,FALSE)","v":85}]
["23S00003401004230278003625","吴学新","340121198202204004","会展设计师（三级）","正常考试",87,"正常考试",{"$f":"VLOOKUP(C55,[1]技能!$B:$D,3,FALSE)","v":75}]
["23S00003401004230278003626","邵东丽","340121199512046421","会展设计师（三级）","缺考",0,"缺考",{"$f":"VLOOKUP(C56,[1]技能!$B:$D,3,FALSE)","v":0}]
["23S00003401004230278003627","陈浩","342423199008243590","会展设计师（三级）","正常考试",85,"正常考试",{"$f":"VLOOKUP(C57,[1]技能!$B:$D,3,FALSE)","v":75}]
["23S00003401004230278003628","宋晶晶","340323199212080824","会展设计师（三级）","缺考",0,"正常考试",{"$f":"VLOOKUP(C58,[1]技能!$B:$D,3,FALSE)","v":72}]
["23S00003401004230278003629","王良谢","340121197806116430","会展设计师（三级）","缺考",0,"缺考",{"$f":"VLOOKUP(C59,[1]技能!$B:$D,3,FALSE)","v":0}]
["23S00003401004230278003630","张丽君","340824199508284643","会展设计师（三级）","正常考试",89,"正常考试",{"$f":"VLOOKUP(C60,[1]技能!$B:$D,3,FALSE)","v":81}]
["23S00003401004230278003631","汪建军","340121198608015211","会展设计师（三级）","缺考",0,"缺考",{"$f":"VLOOKUP(C61,[1]技能!$B:$D,3,FALSE)","v":0}]
["23S00003401004230278003632","房迪迪","342221199204040033","会展设计师（三级）","缺考",0,"缺考",{"$f":"VLOOKUP(C62,[1]技能!$B:$D,3,FALSE)","v":0}]
["23S00003401004230278003633","谭静","341281198509228636","会展设计师（三级）","正常考试",84,"正常考试",{"$f":"VLOOKUP(C63,[1]技能!$B:$D,3,FALSE)","v":76}]
["23S00003401004230278003634","崔勇","341602199807262059","会展设计师（三级）","正常考试",62,"正常考试",{"$f":"VLOOKUP(C64,[1]技能!$B:$D,3,FALSE)","v":73}]
["23S00003401004230278003652","王在敏","340122198101046461","会展设计师（三级）","正常考试",93]
["23S00003401004230278003653","王在云","340122197812056485","会展设计师（三级）","正常考试",92]
["23S00003401004240191003582","谭家欢","34112519910923578X","茶艺师（四级）","正常考试",97,"正常考试",{"$f":"VLOOKUP(C67,[1]技能!$B:$D,3,FALSE)","v":71}]
["23S00003401004240191003583","刘珊珊","341003198810102848","茶艺师（四级）","正常考试",94,"正常考试",{"$f":"VLOOKUP(C68,[1]技能!$B:$D,3,FALSE)","v":70}]
["23S00003401004240191003584","李娜娜","341203198609090946","茶艺师（四级）","正常考试",85,"正常考试",{"$f":"VLOOKUP(C69,[1]技能!$B:$D,3,FALSE)","v":71}]
["23S00003401004240191003585","向辉帮","620121198902241911","茶艺师（四级）","正常考试",87,"正常考试",{"$f":"VLOOKUP(C70,[1]技能!$B:$D,3,FALSE)","v":73}]
["23S00003401004240191003586","范娟","130404198605162129","茶艺师（四级）","正常考试",93,"正常考试",{"$f":"VLOOKUP(C71,[1]技能!$B:$D,3,FALSE)","v":72}]
["23S00003401004240191003587","薛业娟","342423197812300040","茶艺师（四级）","正常考试",96,"正常考试",{"$f":"VLOOKUP(C72,[1]技能!$B:$D,3,FALSE)","v":70}]
["23S00003401004240191003588","郭琪","342622199508250441","茶艺师（四级）","正常考试",77,"正常考试",{"$f":"VLOOKUP(C73,[1]技能!$B:$D,3,FALSE)","v":74}]

{"sheet":"Sheet2","index":1,"n_rows":3,"n_cols":1,"rows_kept":3,"hidden":true}
["正常考试"]
["缺考"]
["舞弊"]